{"text_format":"1","workbook":"xlsx","n_sheets":10,"sheets":["初期設定","Ｌ-1","Ｌ-2","Ｌ-3","R-6","Ｌ-5","R-7","Ｌ-8","（集計）","（ACCESS転写データ）"],"not_rendered":{"charts":0,"images":0,"macros":1,"external_links":0,"defined_names":6,"comments":2,"pivot_tables":1},"unopened":[],"bounds":{"document_bytes":16777216,"sheet_cells":100000,"rows_first":2000,"rows_last":500,"rows_between":2000,"halvings":0,"cell_chars":16384,"cell_head_chars":4096},"cells_cut":0,"cells_raw":0,"read":"whole","date_system":"1900"}

{"sheet":"初期設定","index":0,"n_rows":83,"n_cols":5,"rows_kept":83,"cut":false,"hidden":false,"merged":[[66,1,67,3],[1,0,2,3],[3,1,3,2],[8,1,8,2],[32,0,37,0],[11,1,11,2],[12,1,12,2],[63,1,64,3],[49,0,53,2],[38,1,38,2],[13,1,13,2],[15,0,20,0]]}
["様式L-0"]
["【初期設定事項】"]
[]
[1,"団体名"]
[2,"団体連絡先","〒"]
[null,null,"住所"]
[3,"団体代表者"]
[4,"団体ホームページ"]
[5,"講座名"]
[6,"主任指導者","氏名"]
[null,"（ＲＡＣｲﾝｽﾄﾗｸﾀｰ１種以上）","ＲＡＣ登録ID"]
[7,"開催団体名※5"]
[8,"主な経費負担者"]
[9,"開催日時※1"]
[10,"実施河川"]
[11,"実施会場","名称"]
[null,null,"〒"]
[null,null,"住所1(都道府県）"]
[null,null,"住所2（市区郡）"]
[null,null,"住所3（町名以下）"]
[null,null,"TEL"]
[12,"受講予定数","大人"]
[null,null,"子供"]
[null,null,"講師・指導者"]
[13,"担当者・連絡先","氏名"]
[null,null,"所属団体"]
[null,null,"役職"]
[null,null,"〒"]
[null,null,"住所"]
[null,null,"ＴＥＬ"]
[null,null,"FAX"]
[null,null,"E-MAIL"]
[14,"講座資料発送先","発送先"]
[null,null,"〒"]
[null,"（※着払・午前指定にて発送）","住所"]
[null,null,"ＴＥＬ"]
[null,null,"受取人氏名"]
[null,null,"資料到着日"]
[15,"講座認定番号"]
[16,"受講者数","大人"]
[null,null,"子供"]
[null,null,"講師・指導者"]
[17,"全活動回数"]
[18,"支払申請※2","銀行名"]
[null,null,"支店名"]
[null,null,"種別"]
[null,null,"口座番号"]
[null,null,"こうざめいぎふりがな"]
[null,null,"口座名義"]
["記入不要欄",null,null,{"$f":"'Ｌ-2'!H5","v":0}]
[null,null,null,{"$f":"'Ｌ-3'!E40","v":0}]
[null,null,null,{"$f":"'R-7'!J10","v":0}]
[null,null,null,{"$f":"\"平成\"&'Ｌ-1'!I4&\"年\"&'Ｌ-1'!K4&\"月\"&'Ｌ-1'!M4&\"日\"","v":"平成年月日"}]
[null,null,null,{"$f":"\"平成\"&'Ｌ-5'!M4&\"年\"&'Ｌ-5'!O4&\"月\"&'Ｌ-5'!Q4&\"日\"","v":"平成年月日"}]
["注１）","講座関連書類作成前に上記へ入力ください。"]
[null,"なお、入力欄は上記",null,"色の箇所です。当データ内の他の書式も同じです。"]
[]
["注２）","講座申請時は上記",null,"色の全ての欄へ入力ください。"]
[null,"活動報告時は上記",null,"色の欄へ入力ください。"]
[]
["注３)","※1―活動報告時に変更のあった場合には修正ください。"]
[null,"※2―支援講座のみ入力ください。"]
[]
["注4）","「申請団体名」の欄にはＲＡＣ会員団体で指導者養成団体名を記入し、「開催団体名」の欄には実際に講座を主催する団体名（例―河川管理者から依頼の場合はその河川管理者名）を記入ください。"]
["　"]
[]
["注５）","「申請団体名」の欄にはＲＡＣ会員団体で指導者養成団体名を記入し、「開催団体名」の欄には実際に講座を主催する団体名（例―河川管理者から依頼の場合はその河川管理者名）を記入ください。"]
["　"]
[]
[]
[]
[]
[]
[]
[]
[]
[]
[]
[null,null,null,null,"主な経費負担者"]
[null,null,null,null,"受講者"]
[null,null,null,null,"申請団体"]
[null,null,null,null,"開催団体"]
[null,null,null,null,"その他（　　　　　　　　　　　　　）"]

{"sheet":"Ｌ-1","index":1,"n_rows":85,"n_cols":14,"rows_kept":85,"cut":false,"hidden":false,"merged":[[44,0,44,12],[46,0,50,12],[7,2,7,3],[8,0,8,1],[8,2,8,3],[34,9,34,12],[15,0,16,1],[15,2,16,12],[28,0,29,0],[28,8,29,12],[7,5,7,13],[11,0,11,13],[13,0,13,13],[14,0,14,1],[14,2,14,12],[8,5,8,13],[17,2,18,12],[27,0,27,12],[19,3,19,12],[21,3,21,12],[22,3,22,12],[23,0,23,1],[17,0,18,1],[19,0,19,1],[24,0,24,1],[24,2,24,12],[25,0,25,1],[25,2,25,12],[1,0,1,13],[4,0,4,3],[5,0,5,2],[6,6,6,7],[30,0,30,12],[23,6,23,7],[9,2,9,3],[7,0,7,1],[28,6,29,7],[28,1,29,5],[21,0,21,1],[22,0,22,1],[20,0,20,1],[20,3,20,12],[9,5,9,12],[9,0,9,1],[43,0,43,12],[41,0,42,12],[32,0,32,12],[33,1,33,12],[37,1,37,5],[35,0,36,0],[35,2,35,12],[36,1,36,12],[34,7,34,8],[34,1,34,6],[38,1,38,12],[39,1,39,12],[37,7,37,12]]}
["様式Ｌ－１"]
["RAC川のサマーキャンプ　開催申請書 "]
[]
[null,null,null,null,null,null,null,"令和",null,"年",null,"月",null,"日"]
["NPO法人川に学ぶ体験活動協議会"]
["代表理事  宮尾　博一 殿"]
[null,null,null,null,"住      所※","〒",{"$f":"初期設定!D5","v":0}]
[null,null,null,null,null,{"$f":"初期設定!D6","v":0}]
[null,null,null,null,"申請団体名　※1",{"$f":"初期設定!D4","v":0}]
[null,null,"　　　　　　　　　　　　　　　　　",null,"代表者職氏名※",{"$f":"初期設定!D7","v":0},null,null,null,null,null,null,null,"印"]
[]
["RAC川のサマーキャンプを開催したく、下記の通り申請します。"]
[]
["記"]
["１．講座名※",null,{"$f":"初期設定!D9","v":0}]
["２．実施日時※",null,{"$f":"初期設定!D14","v":0}]
[]
["３．実施河川名※",null,{"$f":"初期設定!D15","v":0}]
[]
["４．メイン会場※　　 ",null,"会場名",{"$f":"初期設定!D16","v":0}]
[null,null,"〒",{"$f":"初期設定!D17","v":0}]
["　　　　　　　　　　",null,"住所　",{"$f":"初期設定!D18","v":0}]
["　　　　　　　　　　",null,"TEL",{"$f":"初期設定!D21","v":0}]
["５．参加予定数※",null,"大人",{"$f":"初期設定!D22","v":0},"子ども",{"$f":"初期設定!D23","v":0},"講師：指導者",null,{"$f":"初期設定!D24","v":0}]
["６．開催団体名　※1",null,{"$f":"初期設定!D12","v":0}]
["７．主な経費負担者",null,{"$f":"初期設定!D13","v":0}]
[]
["■主任指導者（ＲＡＣインストラクター１種以上）"]
["氏名※",{"$f":"初期設定!D10","v":0},null,null,null,null,"RAC登録ＩＤ",null,{"$f":"初期設定!D11","v":0}]
[]
["当該講座に関し、上記主任指導者にプログラム内容等の承認を受けたことを証明します。"]
[]
["■担当者の通常の連絡先"]
["氏名※",{"$f":"初期設定!D25","v":0}]
["所属団体名※",{"$f":"初期設定!D26","v":0},null,null,null,null,null,"役　　職",null,{"$f":"初期設定!D27","v":0}]
["住所※","〒",{"$f":"初期設定!D28","v":0}]
[null,{"$f":"初期設定!D29","v":0}]
["TEL.※",{"$f":"初期設定!D30","v":0},null,null,null,null,"FAX.※",{"$f":"初期設定!D31","v":0}]
["E-mail※",{"$f":"初期設定!D32","v":0}]
["団体ホームページ",{"$f":"初期設定!D8","v":0}]
[]
["※印の項目については、RACホームページの講座開催予定のページに掲載いたしますので予めご了承ください。不都合がある場合は、その旨ご記入ください。"]
[]
["※1―「申請団体名」の欄にはＲＡＣ会員団体で指導者養成団体名を記入し、「開催団体名」の欄には実際に講座を主催する団体名（例―河川管理者から依頼の場合はその河川管理者名）を記入ください。"]
["■受講者募集について"]
["※ＲＡＣのホームページ等にても募集を行いますので、下記にお誘い用の一文をご記入下さい。"]
[]
[]
[]
[]
[]
[]
[]
["年号","月","日"]
["元",1,1]
[2,2,2]
[3,3,3]
[4,4,4]
[5,5,5]
[6,6,6]
[7,7,7]
[8,8,8]
[9,9,9]
[10,10,10]
[11,11,11]
[12,12,12]
[null,null,13]
[null,null,14]
[null,null,15]
[null,null,16]
[null,null,17]
[null,null,18]
[null,null,19]
[null,null,20]
[null,null,21]
[null,null,22]
[null,null,23]
[null,null,24]
[null,null,25]
[null,null,26]
[null,null,27]
[null,null,28]
[null,null,29]
[null,null,30]
[null,null,31]

{"sheet":"Ｌ-2","index":2,"n_rows":18,"n_cols":9,"rows_kept":18,"cut":false,"hidden":false,"merged":[]}
[]
["様式L－2"]
["開催日","カリキュラム例（※1）","時間帯","実施内容","指導目標（※２）","指導上の留意事項","ＲＡＣインストラクター1種以上の指導者（必須）","その他の講師","備考"]
[null,"①オリエンテーション\n\n・アイスブレイク等\n・キャンプ生活のいろはなど\n\n"]
[null,"②川で楽しく学ぶ安全講座\n\n・危険箇所を知る\n・自分を守る方法を学ぶ\n・誰かが溺れている時の対処"]
[null,"③川を知る、川の環境を体感する\n\n・渓流トレッキング\n・川の生物観察（ガザガザ、釣りなど）\n・捕食\n・山川海のつながり\n\n"]
[null,"④川と自分たちの暮らし\n\n・流域散策\n・人と川の文化、歴史を学ぶ\n・自分たちで川を守る術\n\n"]
[null,"⑤自ら行動する（川の魅力再発見）\n\n・PFDをつけての川流れ体験\n・飛び込み、水中観察\n・古式泳法による急流横断\n"]
[null,"⑥自ら行動する（チャレンジプログラム）\n\n・カヤック体験\n・Eボートツーリング\n"]
[null,"⑦ふりかえり"]
["※１　あくまでも参考です。「子ども水辺安全講座」で実施すべき内容は必須ですが、それ以外の科目については各地域の状況に合わせプログラム作成ください。"]
[]
["※２　川のサマーキャンプ全体を通じて下記のことが達成されるように配慮ください。"]
[null,"①「生きる力」「思いやり」「感謝する気持ち」を育てる。"]
[null,"②命の大切さ、自然の大切さ・怖さ、友達と協力することの大切さなどを学ぶ"]
[null,"③自ら行動し、ふりかえり、分析し、仮説を立て、さらに実証していくという体験学習のプロセスを学ぶ"]
[null,"④普段取り組めないわくわくどきどき体験を通じて、環境教育の素地を養成する"]
[null,"⑤川と森と海と人の関係を体感する"]

{"sheet":"Ｌ-3","index":3,"n_rows":47,"n_cols":5,"rows_kept":47,"cut":false,"hidden":false,"merged":[[1,0,2,0],[3,0,5,0],[7,0,7,3],[8,0,13,0],[8,1,8,3],[9,1,9,3],[10,1,11,3],[15,0,15,3],[16,1,16,2],[10,4,11,4],[12,1,13,3],[12,4,13,4],[36,4,38,4],[28,3,30,3],[28,4,30,4],[22,3,25,3],[22,4,25,4],[46,0,46,3],[3,1,5,4],[1,1,2,4],[14,1,14,3],[39,1,39,3],[40,1,45,3],[40,4,45,4],[26,4,27,4],[17,0,45,0],[17,1,38,2],[17,3,21,3],[17,4,21,4],[26,3,27,3],[31,3,35,3],[31,4,35,4],[36,3,38,3]]}
["様式Ｌ－３"]
["主管団体名",{"$f":"初期設定!D4","v":0}]
[]
["実施予定日",{"$f":"初期設定!D14","v":0}]
[]
[]
[]
["事項・経費項目",null,null,null,"金額（円）"]
["収入の部","支援金交付希望額 (A)"]
[null,"参加費 (B)"]
[null,"補助金・寄付金等 (C)"]
[]
[null,"その他の収入 (D)"]
[]
[null,"収入の部合計 (A+B+C+D)",null,null,{"$f":"SUM(E9:E14)","v":0}]
[]
[null,null,null,"事項・経費項目","金額"]
["支出の部","支援対象経費",null,"謝金",{"$f":"GETPIVOTDATA(\"金額\",'（集計）'!$D$3,\"項目\",\"謝金\")","v":0}]
[]
[]
[]
[]
[null,null,null,"旅費",{"$f":"GETPIVOTDATA(\"金額\",'（集計）'!$D$3,\"項目\",\"旅　費\")","v":0}]
[]
[]
[]
[null,null,null,"印刷製本費"]
[]
[null,null,null,"通信運搬費"]
[]
[]
[null,null,null,"借料損料"]
[]
[]
[]
[]
[null,null,null,"消耗品費"]
[]
[]
[null,"合計 (イ)＝(A)",null,null,{"$f":"SUM(E23:E39)","v":0}]
[null,"支援対象外経費 (ロ)＝（B+C+D）",null,null,{"$f":"'R-7'!J109","v":0}]
[]
[]
[]
[]
[]
["支出総額 (イ+ロ)",null,null,null,{"$f":"E40+E41","v":0}]

{"sheet":"R-6","index":4,"n_rows":33,"n_cols":5,"rows_kept":33,"cut":false,"hidden":false,"merged":[[5,4,5,5],[6,4,6,5],[7,4,7,5],[8,4,8,5],[1,3,1,5],[2,4,2,5],[3,4,3,5],[4,4,4,5],[13,4,13,5],[14,4,14,5],[15,4,15,5],[16,4,16,5],[9,4,9,5],[10,4,10,5],[11,4,11,5],[12,4,12,5],[21,4,21,5],[22,4,22,5],[23,4,23,5],[24,4,24,5],[17,4,17,5],[18,4,18,5],[19,4,19,5],[20,4,20,5],[25,4,25,5],[26,4,26,5],[31,4,31,5],[32,4,32,5],[27,4,27,5],[28,4,28,5],[29,4,29,5],[30,4,30,5]]}
["様式Ｒ－６"]
["講座名",{"$f":"初期設定!D9","v":0},"開催日",{"$f":"初期設定!D14","v":0}]
["NO","氏名","年齢","性別","備考"]
[1]
[2]
[3]
[4]
[5]
[6]
[7]
[8]
[9]
[10]
[11]
[12]
[13]
[14]
[15]
[16]
[17]
[18]
[19]
[20]
[21]
[22]
[23]
[24]
[25]
[26]
[27]
[28]
[29]
[30]

{"sheet":"Ｌ-5","index":5,"n_rows":90,"n_cols":18,"rows_kept":90,"cut":false,"hidden":false,"merged":[[46,0,46,5],[41,6,41,9],[8,0,8,6],[8,7,8,8],[9,0,9,6],[9,7,9,8],[23,0,23,17],[24,0,24,4],[32,14,32,15],[26,0,26,4],[45,0,45,5],[32,6,32,8],[32,0,32,5],[19,0,19,17],[25,0,25,4],[20,0,21,4],[5,0,5,7],[6,11,6,12],[7,0,7,6],[7,7,7,8],[0,0,0,2],[1,0,1,17],[7,10,7,17],[20,5,21,10],[31,14,31,15],[31,6,31,8],[31,0,31,5],[24,5,24,17],[25,5,25,17],[26,5,26,17],[27,5,27,10],[28,5,28,17],[27,12,27,17],[20,11,21,12],[20,13,21,17],[27,0,27,4],[28,0,28,4],[40,0,40,5],[41,0,41,5],[30,0,30,17],[33,0,33,6],[34,0,37,17],[39,0,39,17],[8,10,8,17],[15,5,16,11],[15,12,16,14],[15,15,16,16],[15,17,16,17],[11,0,11,17],[9,10,9,15],[10,10,10,17],[17,0,17,4],[17,5,17,8],[13,0,13,17],[47,0,48,17],[14,0,14,4],[15,0,16,4],[14,5,14,17],[44,0,44,5],[42,0,42,5],[43,0,43,5],[41,15,41,17],[45,6,45,17],[42,6,42,17],[44,6,44,17],[43,6,43,17],[41,11,41,14]]}
["様式Ｌ－５"]
["RAC川のサマーキャンプ　活動実績報告書 "]
[]
[null,null,null,null,null,null,null,null,null,null,null,"令和",null,"年",null,"月",null,"日"]
["NPO法人川に学ぶ体験活動協議会"]
["代表理事  宮尾　博一 殿"]
[null,null,null,null,null,null,null,null,null,"住      所※","〒",{"$f":"初期設定!D5","v":0}]
[null,null,null,null,null,null,null,null,null,null,{"$f":"初期設定!D6","v":0}]
[null,null,null,null,null,null,null,null,null,"申請団体名　※1",{"$f":"初期設定!D4","v":0}]
[null,null,null,null,null,null,null,"　　　　　　　　　　　　　　　　　",null,"代表者職氏名※",{"$f":"初期設定!D7","v":0},null,null,null,null,null,"印"]
["令和",null,"年",null,"月",null,"日","付け、","第",{"$f":"初期設定!D39","v":0},"号で、講座開催の決定通知を受けました講座について、"]
["下記の通り報告及び登録申請いたします。"]
[]
["記"]
["１．講座名※",null,null,null,null,{"$f":"初期設定!D9","v":0}]
["２．総実施期間※",null,null,null,null,{"$f":"初期設定!D14","v":0},null,null,null,null,null,null,"全活動回数",null,null,{"$f":"初期設定!D43","v":0},null,"回"]
[]
["３．受講者数",null,null,null,null,{"$f":"M32+Q32","v":0},null,null,null,"名"]
[]
["■主任指導者（ＲＡＣインストラクター１種以上）"]
["氏　　名※",null,null,null,null,{"$f":"初期設定!D10","v":0},null,null,null,null,null,"ＲＡＣ登録ＩＤ",null,{"$f":"初期設定!D11","v":0}]
[]
[]
["■担当者の連絡先"]
["氏　　名※",null,null,null,null,{"$f":"初期設定!D25","v":0}]
["所属団体名※",null,null,null,null,{"$f":"初期設定!D26","v":0}]
["住　　所",null,null,null,null,{"$f":"初期設定!D29","v":0}]
["TEL.",null,null,null,null,{"$f":"初期設定!D30","v":0},null,null,null,null,null,"FAX. ",{"$f":"初期設定!D31","v":0}]
["E-mail",null,null,null,null,{"$f":"初期設定!D32","v":0}]
[]
["■活動の実施状況"]
["活動実績",null,null,null,null,null,"講師・指導者",null,null,{"$f":"初期設定!D42","v":0},"名","大人",{"$f":"初期設定!D40","v":0},"名","子ども",null,{"$f":"初期設定!D41","v":0},"名"]
["計画時予定",null,null,null,null,null,"講師・指導者",null,null,{"$f":"初期設定!D24","v":0},"名","大人",{"$f":"初期設定!D22","v":0},"名","子ども",null,{"$f":"初期設定!D23","v":0},"名"]
["活動自己評価・今後の課題"]
[]
[]
[]
[]
[]
["■支払申請（※支援決定を受けた講座のみ）"]
["1. 支払い申請金額",null,null,null,null,null,null,null,null,{"$f":"'R-7'!J12","v":0},"円"]
["2．振込先",null,null,null,null,null,{"$f":"初期設定!D44","v":0},null,null,null,"銀行",{"$f":"初期設定!D45","v":0}]
["3．口座種別",null,null,null,null,null,{"$f":"初期設定!D46","v":0}]
["4．口座番号",null,null,null,null,null,{"$f":"初期設定!D47","v":0}]
["5．口座名義フリガナ",null,null,null,null,null,{"$f":"初期設定!D48","v":0}]
["6．口座名義",null,null,null,null,null,{"$f":"初期設定!D49","v":0}]
[]
["※印の項目については、RACホームページの講座開催予定のページに掲載いたしますので予めご了承ください。不都合がある場合は、その旨ご記入ください。"]
[]
[]
[]
[]
[]
[]
[]
[]
[]
[]
["年号",null,null,null,null,null,"月","日"]
["元",null,null,null,null,null,1,1]
[2,null,null,null,null,null,2,2]
[3,null,null,null,null,null,3,3]
[4,null,null,null,null,null,4,4]
[5,null,null,null,null,null,5,5]
[6,null,null,null,null,null,6,6]
[7,null,null,null,null,null,7,7]
[8,null,null,null,null,null,8,8]
[9,null,null,null,null,null,9,9]
[10,null,null,null,null,null,10,10]
[11,null,null,null,null,null,11,11]
[12,null,null,null,null,null,12,12]
[null,null,null,null,null,null,null,13]
[null,null,null,null,null,null,null,14]
[null,null,null,null,null,null,null,15]
[null,null,null,null,null,null,null,16]
[null,null,null,null,null,null,null,17]
[null,null,null,null,null,null,null,18]
[null,null,null,null,null,null,null,19]
[null,null,null,null,null,null,null,20]
[null,null,null,null,null,null,null,21]
[null,null,null,null,null,null,null,22]
[null,null,null,null,null,null,null,23]
[null,null,null,null,null,null,null,24]
[null,null,null,null,null,null,null,25]
[null,null,null,null,null,null,null,26]
[null,null,null,null,null,null,null,27]
[null,null,null,null,null,null,null,28]
[null,null,null,null,null,null,null,29]
[null,null,null,null,null,null,null,30]
[null,null,null,null,null,null,null,31]

{"sheet":"R-7","index":6,"n_rows":113,"n_cols":12,"rows_kept":113,"cut":false,"hidden":false,"merged":[[109,9,109,11],[2,5,2,11],[3,5,3,11],[13,9,15,9],[13,10,15,10],[13,11,15,11],[14,7,15,7],[14,8,15,8],[4,5,4,11],[9,6,9,8],[0,1,0,11],[13,1,15,1],[13,2,15,2],[13,3,15,3],[13,4,15,4],[13,5,15,5],[13,6,15,6],[13,7,13,8]]}
[null,"収支簿"]
[null,null,null,null,null,null,null,null,null,null,null,"№"]
[null,null,null,null,"団体名：",{"$f":"初期設定!D4","v":0}]
[null,"様式Ｒ－７",null,null,"活動名：",{"$f":"初期設定!D9","v":0}]
[null,null,null,null,"講座認定番号：",{"$f":"初期設定!D39","v":0}]
[]
[null,null,null,null,null,null,"収入合計",{"$f":"F109","v":0},"支出合計",{"$f":"G109","v":0}]
[null,"説明",null,null,null,null,null,null,"支援対象経費計（③）",{"$f":"H109","v":0}]
[null,null,null,null,null,null,null,null,"支援対象外経費",{"$f":"J109","v":0}]
[null,null,null,null,null,null,"支援対象額（支出合計－収入合計）(①)",null,null,{"$f":"J7-H7","v":0}]
[null,null,null,null,null,null,"支援額上限(②）",null,null,80000]
[null,null,null,null,null,null,"支援決定額（①～③の最も小さい値）",null,null,{"$f":"MIN(J10,J11,J8)","v":0}]
[]
[null,"領収書\nＮＯ","日　付","項　　目\n(領収書但し書き）","支払先","収入","支　出","支援対象経費",null,"支援対象外経費","検算欄","RAC\nNO"]
[null,null,null,null,null,null,null,"金額","区分"]
[]
["例",101,"2002.5.23","講師謝金","川野 花子",null,30000,20000,null,10000,{"$f":"G17-(H17+J17)","v":0}]
[null,null,null,null,null,null,null,null,null,null,{"$f":"G18-(H18+J18)","v":0}]
[null,null,null,null,null,null,null,null,null,null,0]
[null,null,null,null,null,null,null,null,null,null,0]
[null,null,null,null,null,null,null,null,null,null,0]
[null,null,null,null,null,null,null,null,null,null,0]
[null,null,null,null,null,null,null,null,null,null,0]
[null,null,null,null,null,null,null,null,null,null,0]
[null,null,null,null,null,null,null,null,null,null,0]
[null,null,null,null,null,null,null,null,null,null,0]
[null,null,null,null,null,null,null,null,null,null,0]
[null,null,null,null,null,null,null,null,null,null,0]
[null,null,null,null,null,null,null,null,null,null,0]
[null,null,null,null,null,null,null,null,null,null,0]
[null,null,null,null,null,null,null,null,null,null,0]
[null,null,null,null,null,null,null,null,null,null,0]
[null,null,null,null,null,null,null,null,null,null,0]
[null,null,null,null,null,null,null,null,null,null,0]
[null,null,null,null,null,null,null,null,null,null,0]
[null,null,null,null,null,null,null,null,null,null,0]
[null,null,null,null,null,null,null,null,null,null,0]
[null,null,null,null,null,null,null,null,null,null,0]
[null,null,null,null,null,null,null,null,null,null,0]
[null,null,null,null,null,null,null,null,null,null,0]
[null,null,null,null,null,null,null,null,null,null,0]
[null,null,null,null,null,null,null,null,null,null,0]
[null,null,null,null,null,null,null,null,null,null,0]
[null,null,null,null,null,null,null,null,null,null,0]
[null,null,null,null,null,null,null,null,null,null,0]
[null,null,null,null,null,null,null,null,null,null,0]
[null,null,null,null,null,null,null,null,null,null,0]
[null,null,null,null,null,null,null,null,null,null,0]
[null,null,null,null,null,null,null,null,null,null,0]
[null,null,null,null,null,null,null,null,null,null,0]
[null,null,null,null,null,null,null,null,null,null,0]
[null,null,null,null,null,null,null,null,null,null,0]
[null,null,null,null,null,null,null,null,null,null,0]
[null,null,null,null,null,null,null,null,null,null,0]
[null,null,null,null,null,null,null,null,null,null,0]
[null,null,null,null,null,null,null,null,null,null,0]
[null,null,null,null,null,null,null,null,null,null,0]
[null,null,null,null,null,null,null,null,null,null,0]
[null,null,null,null,null,null,null,null,null,null,0]
[null,null,null,null,null,null,null,null,null,null,0]
[null,null,null,null,null,null,null,null,null,null,0]
[null,null,null,null,null,null,null,null,null,null,0]
[null,null,null,null,null,null,null,null,null,null,0]
[null,null,null,null,null,null,null,null,null,null,0]
[null,null,null,null,null,null,null,null,null,null,0]
[null,null,null,null,null,null,null,null,null,null,0]
[null,null,null,null,null,null,null,null,null,null,0]
[null,null,null,null,null,null,null,null,null,null,0]
[null,null,null,null,null,null,null,null,null,null,0]
[null,null,null,null,null,null,null,null,null,null,0]
[null,null,null,null,null,null,null,null,null,null,0]
[null,null,null,null,null,null,null,null,null,null,0]
[null,null,null,null,null,null,null,null,null,null,0]
[null,null,null,null,null,null,null,null,null,null,0]
[null,null,null,null,null,null,null,null,null,null,0]
[null,null,null,null,null,null,null,null,null,null,0]
[]
[]
[]
[]
[]
[]
[]
[]
[]
[]
[]
[]
[]
[]
[]
[]
[]
[]
[]
[]
[]
[]
[]
[]
[]
[]
[null,null,null,null,null,null,null,null,"謝金"]
[null,null,null,null,null,null,null,null,"旅　費"]
[null,null,null,null,null,null,null,null,"印刷製本費"]
[null,null,null,null,null,null,null,null,"通信運搬費"]
[null,null,null,null,null,null,null,null,"借料損料"]
[null,null,null,null,null,null,null,null,"消耗品費"]
[null,null,"合　　　計",null,null,{"$f":"SUM(F18:F76)","v":0},{"$f":"SUM(G18:G76)","v":0},{"$f":"SUM(H18:H76)","v":0},null,{"$f":"SUM(J18:J76)","v":0},0]
[]
[]
[]
[null,"謝金","旅　費","印刷製本費","通信運搬費","借料損料","消耗品費"]

{"sheet":"Ｌ-8","index":7,"n_rows":47,"n_cols":5,"rows_kept":47,"cut":false,"hidden":false,"merged":[[1,0,2,0],[1,1,2,4],[3,0,5,0],[3,1,5,4],[10,4,11,4],[12,1,13,3],[12,4,13,4],[7,0,7,3],[8,0,13,0],[8,1,8,3],[9,1,9,3],[10,1,11,3],[14,1,14,3],[15,0,15,3],[16,1,16,2],[17,0,45,0],[17,1,38,2],[17,3,21,3],[26,3,27,3],[31,3,35,3],[26,4,27,4],[28,3,30,3],[28,4,30,4],[17,4,21,4],[22,3,25,3],[22,4,25,4],[46,0,46,3],[31,4,35,4],[36,3,38,3],[36,4,38,4],[39,1,39,3],[40,1,45,3],[40,4,45,4]]}
["様式Ｌ－8"]
["主管団体名",{"$f":"初期設定!D4","v":0}]
[]
["開催日",{"$f":"初期設定!D14","v":0}]
[]
[]
[]
["事項・経費項目",null,null,null,"金額（円）"]
["収入の部","支援金交付希望額 (A)"]
[null,"参加費 (B)"]
[null,"補助金・寄付金等 (C)"]
[]
[null,"その他の収入 (D)"]
[]
[null,"収入の部合計 (A+B+C+D)",null,null,{"$f":"SUM(E9:E14)","v":0}]
[]
[null,null,null,"事項・経費項目","金額"]
["支出の部","支援対象経費",null,"謝金",{"$f":"GETPIVOTDATA(\"金額\",'（集計）'!$D$3,\"項目\",\"謝金\")","v":0}]
[]
[]
[]
[]
[null,null,null,"旅費",{"$f":"GETPIVOTDATA(\"金額\",'（集計）'!$D$3,\"項目\",\"旅　費\")","v":0}]
[]
[]
[]
[null,null,null,"印刷製本費",{"$f":"GETPIVOTDATA(\"金額\",'（集計）'!$D$3,\"項目\",\"印刷製本費\")","v":0}]
[]
[null,null,null,"通信運搬費",{"$f":"GETPIVOTDATA(\"金額\",'（集計）'!$D$3,\"項目\",\"通信運搬費\")","v":0}]
[]
[]
[null,null,null,"借料損料",{"$f":"GETPIVOTDATA(\"金額\",'（集計）'!$D$3,\"項目\",\"借料損料\")","v":0}]
[]
[]
[]
[]
[null,null,null,"消耗品費",{"$f":"GETPIVOTDATA(\"金額\",'（集計）'!$D$3,\"項目\",\"消耗品費\")","v":0}]
[]
[]
[null,"合計 (イ)＝(A)",null,null,{"$f":"SUM(E18:E39)","v":0}]
[null,"支援対象外経費 (ロ)＝（B+C+D）",null,null,{"$f":"'R-7'!J109","v":0}]
[]
[]
[]
[]
[]
["支出総額 (イ+ロ)",null,null,null,{"$f":"SUM(E40:E46)","v":0}]

{"sheet":"（集計）","index":8,"n_rows":92,"n_cols":7,"rows_kept":92,"cut":false,"hidden":false,"merged":[]}
["金額","項目"]
[{"$f":"'R-7'!H18","v":0},{"$f":"'R-7'!I18","v":0}]
[{"$f":"'R-7'!H19","v":0},{"$f":"'R-7'!I19","v":0},null,"合計 / 金額"]
[{"$f":"'R-7'!H20","v":0},{"$f":"'R-7'!I20","v":0},null,"項目","集計"]
[{"$f":"'R-7'!H21","v":0},{"$f":"'R-7'!I21","v":0},null,0,0]
[{"$f":"'R-7'!H22","v":0},{"$f":"'R-7'!I22","v":0},null,"謝金",0]
[{"$f":"'R-7'!H23","v":0},{"$f":"'R-7'!I23","v":0},null,"旅　費",0]
[{"$f":"'R-7'!H24","v":0},{"$f":"'R-7'!I24","v":0},null,"印刷製本費",0]
[{"$f":"'R-7'!H25","v":0},{"$f":"'R-7'!I25","v":0},null,"通信運搬費",0]
[{"$f":"'R-7'!H26","v":0},{"$f":"'R-7'!I26","v":0},null,"借料損料",0]
[{"$f":"'R-7'!H27","v":0},{"$f":"'R-7'!I27","v":0},null,"消耗品費",0]
[{"$f":"'R-7'!H28","v":0},{"$f":"'R-7'!I28","v":0},null,"総計",0]
[{"$f":"'R-7'!H29","v":0},{"$f":"'R-7'!I29","v":0}]
[{"$f":"'R-7'!H30","v":0},{"$f":"'R-7'!I30","v":0}]
[{"$f":"'R-7'!H31","v":0},{"$f":"'R-7'!I31","v":0}]
[{"$f":"'R-7'!H32","v":0},{"$f":"'R-7'!I32","v":0},null,"支援対象額(①）",null,null,{"$f":"'R-7'!J10","v":0}]
[{"$f":"'R-7'!H33","v":0},{"$f":"'R-7'!I33","v":0},null,"支援額上限(②）",null,null,80000]
[{"$f":"'R-7'!H34","v":0},{"$f":"'R-7'!I34","v":0}]
[{"$f":"'R-7'!H35","v":0},{"$f":"'R-7'!I35","v":0}]
[{"$f":"'R-7'!H36","v":0},{"$f":"'R-7'!I36","v":0}]
[{"$f":"'R-7'!H37","v":0},{"$f":"'R-7'!I37","v":0}]
[{"$f":"'R-7'!H38","v":0},{"$f":"'R-7'!I38","v":0}]
[{"$f":"'R-7'!H39","v":0},{"$f":"'R-7'!I39","v":0}]
[{"$f":"'R-7'!H40","v":0},{"$f":"'R-7'!I40","v":0}]
[{"$f":"'R-7'!H41","v":0},{"$f":"'R-7'!I41","v":0}]
[{"$f":"'R-7'!H42","v":0},{"$f":"'R-7'!I42","v":0}]
[{"$f":"'R-7'!H43","v":0},{"$f":"'R-7'!I43","v":0}]
[{"$f":"'R-7'!H44","v":0},{"$f":"'R-7'!I44","v":0}]
[{"$f":"'R-7'!H45","v":0},{"$f":"'R-7'!I45","v":0}]
[{"$f":"'R-7'!H46","v":0},{"$f":"'R-7'!I46","v":0}]
[{"$f":"'R-7'!H47","v":0},{"$f":"'R-7'!I47","v":0}]
[{"$f":"'R-7'!H48","v":0},{"$f":"'R-7'!I48","v":0}]
[{"$f":"'R-7'!H49","v":0},{"$f":"'R-7'!I49","v":0}]
[{"$f":"'R-7'!H50","v":0},{"$f":"'R-7'!I50","v":0}]
[{"$f":"'R-7'!H51","v":0},{"$f":"'R-7'!I51","v":0}]
[{"$f":"'R-7'!H52","v":0},{"$f":"'R-7'!I52","v":0}]
[{"$f":"'R-7'!H53","v":0},{"$f":"'R-7'!I53","v":0}]
[{"$f":"'R-7'!H54","v":0},{"$f":"'R-7'!I54","v":0}]
[{"$f":"'R-7'!H55","v":0},{"$f":"'R-7'!I55","v":0}]
[{"$f":"'R-7'!H56","v":0},{"$f":"'R-7'!I56","v":0}]
[{"$f":"'R-7'!H57","v":0},{"$f":"'R-7'!I57","v":0}]
[{"$f":"'R-7'!H58","v":0},{"$f":"'R-7'!I58","v":0}]
[{"$f":"'R-7'!H59","v":0},{"$f":"'R-7'!I59","v":0}]
[{"$f":"'R-7'!H60","v":0},{"$f":"'R-7'!I60","v":0}]
[{"$f":"'R-7'!H61","v":0},{"$f":"'R-7'!I61","v":0}]
[{"$f":"'R-7'!H62","v":0},{"$f":"'R-7'!I62","v":0}]
[{"$f":"'R-7'!H63","v":0},{"$f":"'R-7'!I63","v":0}]
[{"$f":"'R-7'!H64","v":0},{"$f":"'R-7'!I64","v":0}]
[{"$f":"'R-7'!H65","v":0},{"$f":"'R-7'!I65","v":0}]
[{"$f":"'R-7'!H66","v":0},{"$f":"'R-7'!I66","v":0}]
[{"$f":"'R-7'!H67","v":0},{"$f":"'R-7'!I67","v":0}]
[{"$f":"'R-7'!H68","v":0},{"$f":"'R-7'!I68","v":0}]
[{"$f":"'R-7'!H69","v":0},{"$f":"'R-7'!I69","v":0}]
[{"$f":"'R-7'!H70","v":0},{"$f":"'R-7'!I70","v":0}]
[{"$f":"'R-7'!H71","v":0},{"$f":"'R-7'!I71","v":0}]
[{"$f":"'R-7'!H72","v":0},{"$f":"'R-7'!I72","v":0}]
[{"$f":"'R-7'!H73","v":0},{"$f":"'R-7'!I73","v":0}]
[{"$f":"'R-7'!H74","v":0},{"$f":"'R-7'!I74","v":0}]
[{"$f":"'R-7'!H75","v":0},{"$f":"'R-7'!I75","v":0}]
[{"$f":"'R-7'!H76","v":0},{"$f":"'R-7'!I76","v":0}]
[{"$f":"'R-7'!H77","v":0},{"$f":"'R-7'!I77","v":0}]
[{"$f":"'R-7'!H78","v":0},{"$f":"'R-7'!I78","v":0}]
[{"$f":"'R-7'!H79","v":0},{"$f":"'R-7'!I79","v":0}]
[{"$f":"'R-7'!H80","v":0},{"$f":"'R-7'!I80","v":0}]
[{"$f":"'R-7'!H81","v":0},{"$f":"'R-7'!I81","v":0}]
[{"$f":"'R-7'!H82","v":0},{"$f":"'R-7'!I82","v":0}]
[{"$f":"'R-7'!H83","v":0},{"$f":"'R-7'!I83","v":0}]
[{"$f":"'R-7'!H84","v":0},{"$f":"'R-7'!I84","v":0}]
[{"$f":"'R-7'!H85","v":0},{"$f":"'R-7'!I85","v":0}]
[{"$f":"'R-7'!H86","v":0},{"$f":"'R-7'!I86","v":0}]
[{"$f":"'R-7'!H87","v":0},{"$f":"'R-7'!I87","v":0}]
[{"$f":"'R-7'!H88","v":0},{"$f":"'R-7'!I88","v":0}]
[{"$f":"'R-7'!H89","v":0},{"$f":"'R-7'!I89","v":0}]
[{"$f":"'R-7'!H90","v":0},{"$f":"'R-7'!I90","v":0}]
[{"$f":"'R-7'!H91","v":0},{"$f":"'R-7'!I91","v":0}]
[{"$f":"'R-7'!H92","v":0},{"$f":"'R-7'!I92","v":0}]
[{"$f":"'R-7'!H93","v":0},{"$f":"'R-7'!I93","v":0}]
[{"$f":"'R-7'!H94","v":0},{"$f":"'R-7'!I94","v":0}]
[{"$f":"'R-7'!H95","v":0},{"$f":"'R-7'!I95","v":0}]
[{"$f":"'R-7'!H96","v":0},{"$f":"'R-7'!I96","v":0}]
[{"$f":"'R-7'!H97","v":0},{"$f":"'R-7'!I97","v":0}]
[{"$f":"'R-7'!H98","v":0},{"$f":"'R-7'!I98","v":0}]
[{"$f":"'R-7'!H99","v":0},{"$f":"'R-7'!I99","v":0}]
[{"$f":"'R-7'!H100","v":0},{"$f":"'R-7'!I100","v":0}]
[{"$f":"'R-7'!H101","v":0},{"$f":"'R-7'!I101","v":0}]
[{"$f":"'R-7'!H102","v":0},{"$f":"'R-7'!I102","v":0}]
[{"$f":"'R-7'!H103","v":0},{"$f":"'R-7'!I103","v":"謝金"}]
[{"$f":"'R-7'!H104","v":0},{"$f":"'R-7'!I104","v":"旅　費"}]
[{"$f":"'R-7'!H105","v":0},{"$f":"'R-7'!I105","v":"印刷製本費"}]
[{"$f":"'R-7'!H106","v":0},{"$f":"'R-7'!I106","v":"通信運搬費"}]
[{"$f":"'R-7'!H107","v":0},{"$f":"'R-7'!I107","v":"借料損料"}]
[{"$f":"'R-7'!H108","v":0},{"$f":"'R-7'!I108","v":"消耗品費"}]

{"sheet":"（ACCESS転写データ）","index":9,"n_rows":3,"n_cols":31,"rows_kept":3,"cut":false,"hidden":false,"merged":[]}
[1,2,null,3,4,5,6,7,null,8,10,11,12,13,14,15,16,17,18,19,20,21,22,23,24,25,26,27,28,29,30]
["講座名","主任指導者","ＲＡＣ登録ID","開催日時","実施河川","実施会場名称","実施会場〒","実施会場住所_ 1","実施会場住所_ 2","実施会場TEL","担当者氏名","担当者所属団体","担当者〒","担当者住所","担当者TEL","担当者FAX","担当者メール","参加者（大人)","参加者（子ども）","登録者数","開催申請日","修了申請日","資料発送先","資料_〒","資料_住所","資料_TEL","資料_受取人","資料_到着日","講座PR","開催団体名","主な経費負担者"]
[{"$f":"初期設定!D9","v":0},{"$f":"初期設定!D10","v":0},{"$f":"初期設定!D11","v":0},{"$f":"初期設定!D14","v":"00:00:00"},{"$f":"初期設定!D15","v":0},{"$f":"初期設定!D16","v":0},{"$f":"初期設定!D17","v":0},{"$f":"初期設定!D18","v":0},{"$f":"初期設定!D19&初期設定!D20","v":""},{"$f":"初期設定!D21","v":0},{"$f":"初期設定!D25","v":0},{"$f":"初期設定!D26","v":0},{"$f":"初期設定!D28","v":0},{"$f":"初期設定!D29","v":0},{"$f":"初期設定!D30","v":0},{"$f":"初期設定!D31","v":0},{"$f":"初期設定!D32","v":0},{"$f":"初期設定!D40","v":0},{"$f":"初期設定!D41","v":0},{"$f":"初期設定!D43","v":0},{"$f":"初期設定!D53","v":"平成年月日"},{"$f":"初期設定!D54","v":"平成年月日"},{"$f":"初期設定!D33","v":0},{"$f":"初期設定!D34","v":0},{"$f":"初期設定!D35","v":0},{"$f":"初期設定!D36","v":0},{"$f":"初期設定!D37","v":0},{"$f":"初期設定!D38","v":"00:00:00"},{"$f":"'Ｌ-1'!A47","v":0},{"$f":"初期設定!D12","v":0},{"$f":"初期設定!D13","v":0}]