{"text_format":"1","workbook":"xlsx","n_sheets":11,"sheets":["初期設定","F-1","F-2","F-3","F-5","F-6","F-７","R-7","F-8","（集計）","（ACCESS転写データ）"],"not_rendered":{"charts":0,"images":0,"macros":1,"external_links":0,"defined_names":7,"comments":3,"pivot_tables":1},"unopened":[],"bounds":{"document_bytes":16777216,"sheet_cells":100000,"rows_first":2000,"rows_last":500,"rows_between":2000,"halvings":0,"cell_chars":16384,"cell_head_chars":4096},"cells_cut":0,"cells_raw":0,"read":"whole","date_system":"1900"}

{"sheet":"初期設定","index":0,"n_rows":83,"n_cols":5,"rows_kept":83,"cut":false,"hidden":false,"merged":[[66,1,67,3],[49,0,53,2],[42,1,42,2],[13,1,13,2],[15,0,20,0],[1,0,2,3],[3,1,3,2],[8,1,8,2],[38,1,38,2],[32,0,37,0],[11,1,11,2],[12,1,12,2]]}
["様式E-0"]
["【初期設定事項】"]
[]
[1,"団体名"]
[2,"団体連絡先","〒"]
[null,null,"住所"]
[3,"団体代表者"]
[4,"団体ホームページ"]
[5,"講座名"]
[6,"専任講師","氏名"]
[null,null,"ＲＡＣ登録ID"]
[7,"開催団体名※5"]
[8,"主な経費負担者"]
[9,"開催日時※1"]
[10,"実施河川"]
[11,"実施会場","名称"]
[null,null,"〒"]
[null,null,"住所1(都道府県）"]
[null,null,"住所2（市区郡）"]
[null,null,"住所3（町名以下）"]
[null,null,"TEL"]
[12,"参加予定数","大人"]
[]
[null,null,"講師"]
[13,"担当者・連絡先","氏名"]
[null,null,"所属団体"]
[null,null,"役職"]
[null,null,"〒"]
[null,null,"住所"]
[null,null,"ＴＥＬ"]
[null,null,"FAX"]
[null,null,"E-MAIL"]
[14,"講座資料発送先","発送先"]
[null,null,"〒"]
[null,"（※着払・午前指定にて発送）","住所"]
[null,null,"ＴＥＬ"]
[null,null,"受取人氏名"]
[null,null,"資料到着日"]
[15,"講座認定番号"]
[16,"活動実績数","大人"]
[]
[null,null,"講師"]
[17,"修了証発行者数"]
[18,"支払申請※2","銀行名"]
[null,null,"支店名"]
[null,null,"種別"]
[null,null,"口座番号"]
[null,null,"こうざめいぎふりがな"]
[null,null,"口座名義"]
["記入不要欄",null,null,{"$f":"'F-2'!H5","v":0}]
[null,null,null,{"$f":"'F-3'!E40","v":0}]
[null,null,null,{"$f":"'R-7'!J10","v":0}]
[null,null,null,{"$f":"\"平成\"&('F-1'!I4)&\"年\"&('F-1'!K4)&\"月\"&('F-1'!M4)&\"日\"","v":"平成年月日"}]
[null,null,null,{"$f":"\"平成\"&('F-5'!M4)&\"年\"&('F-5'!O4)&\"月\"&('F-5'!Q4)&\"日\"","v":"平成年月日"}]
["注１）","講座関連書類作成前に上記へ入力ください。"]
[null,"なお、入力欄は上記",null,"色の箇所です。当データ内の他の書式も同じです。"]
[]
["注２）","講座申請時は上記",null,"色の全ての欄へ入力ください。"]
[null,"活動報告時は上記",null,"色の欄へ入力ください。"]
[]
["注３)","※1―活動報告時に変更のあった場合には修正ください。"]
[null,"※2―交付希望講座のみ入力ください。"]
[]
["注４）","講座開催支援が不要な場合は、次の様式は不要です。"]
[null,"　様式E-３、R-7、E-8"]
[]
["注５）","「申請団体名」の欄にはＲＡＣ会員団体で指導者養成団体名を記入し、「開催団体名」の欄には実際に講座を主催する団体名（例―河川管理者から依頼の場合はその河川管理者名）を記入ください。"]
["　"]
[]
[]
[]
[]
[]
[]
[]
[]
[]
[]
[null,null,null,null,"主な経費負担者"]
[null,null,"実施会場",null,"受講者"]
[null,null,"担当者・連絡先",null,"申請団体"]
[null,null,"下記住所",null,"開催団体"]
[null,null,null,null,"その他（　　　　　　　　　　　　　）"]

{"sheet":"F-1","index":1,"n_rows":82,"n_cols":14,"rows_kept":82,"cut":false,"hidden":false,"merged":[[43,0,43,12],[34,7,34,8],[34,1,34,6],[35,2,35,12],[36,1,36,12],[35,0,36,0],[38,1,38,12],[39,1,39,12],[37,7,37,12],[40,0,41,12],[37,1,37,5],[28,1,29,5],[24,2,24,12],[25,0,25,1],[25,2,25,12],[42,0,42,12],[33,1,33,12],[24,0,24,1],[45,0,49,12],[7,2,7,3],[8,0,8,1],[8,2,8,3],[34,9,34,12],[15,0,16,1],[15,2,16,12],[28,0,29,0],[28,8,29,12],[17,0,18,1],[19,0,19,1],[7,5,7,13],[11,0,11,13],[13,0,13,13],[14,0,14,1],[23,0,23,1],[21,0,21,1],[22,0,22,1],[14,2,14,12],[8,5,8,13],[9,5,9,12],[9,0,9,1],[9,2,9,3],[1,0,1,13],[4,0,4,3],[5,0,5,2],[6,6,6,7],[32,0,32,12],[30,0,30,12],[23,6,23,7],[20,0,20,1],[20,3,20,12],[28,6,29,7],[7,0,7,1],[17,2,18,12],[27,0,27,12],[19,3,19,12],[21,3,21,12],[22,3,22,12]]}
["様式E－１"]
["RAC水辺のファースト・エイド講習会　開催申請書 "]
[]
[null,null,null,null,null,null,null,"令和",null,"年",null,"月",null,"日"]
["NPO法人川に学ぶ体験活動協議会"]
["代表理事  宮尾　博一 殿"]
[null,null,null,null,"住      所※","〒",{"$f":"初期設定!D5","v":0}]
[null,null,null,null,null,{"$f":"初期設定!D6","v":0}]
[null,null,null,null,"申請団体名　※1",{"$f":"初期設定!D4","v":0}]
[null,null,"　　　　　　　　　　　　　　　　　",null,"代表者職氏名※",{"$f":"初期設定!D7","v":0},null,null,null,null,null,null,null,"印"]
[]
["RAC水辺のファースト・エイド講習会を開催したく、下記の通り申請します。"]
[]
["記"]
["１．講座名※",null,{"$f":"初期設定!D9","v":0}]
["２．実施日時※",null,{"$f":"初期設定!D14","v":"00:00:00"}]
[]
["３．実施河川名※",null,{"$f":"初期設定!D15","v":0}]
[]
["４．メイン会場※　　 ",null,"会場名",{"$f":"初期設定!D16","v":0}]
[null,null,"〒",{"$f":"初期設定!D17","v":0}]
["　　　　　　　　　　",null,"住所　",{"$f":"初期設定!D18","v":0}]
["　　　　　　　　　　",null,"TEL",{"$f":"初期設定!D21","v":0}]
["５．参加予定数※",null,"大人",{"$f":"初期設定!D22","v":0},"子ども",{"$f":"初期設定!D23","v":0},"講師：指導者",null,{"$f":"初期設定!D24","v":0}]
["６．開催団体名　※1",null,{"$f":"初期設定!D12","v":0}]
["７．主な経費負担者",null,{"$f":"初期設定!D13","v":0}]
[]
["■担当専任講師"]
["氏名※",{"$f":"初期設定!D10","v":0},null,null,null,null,"RAC登録ID",null,{"$f":"初期設定!D11","v":0}]
[]
["当該講座に関し、専任講師にプログラム内容等の承認を受けたことを証明します。"]
[]
["■担当者の連絡先"]
["氏名※",{"$f":"初期設定!D25","v":0}]
["所属団体名※",{"$f":"初期設定!D26","v":0},null,null,null,null,null,"役　　職",null,{"$f":"初期設定!D27","v":0}]
["住所※","〒",{"$f":"初期設定!D28","v":0}]
[null,{"$f":"初期設定!D29","v":0}]
["TEL.※",{"$f":"初期設定!D30","v":0},null,null,null,null,"FAX.※",{"$f":"初期設定!D31","v":0}]
["E-mail※",{"$f":"初期設定!D32","v":0}]
["団体ホームページ",{"$f":"初期設定!D8","v":0}]
["※印の項目については、RACホームページの講座開催予定のページに掲載いたしますので予めご了承ください。不都合がある場合は、その旨ご記入ください。"]
[]
["※1―「申請団体名」の欄にはＲＡＣ会員団体で指導者養成団体名を記入し、「開催団体名」の欄には実際に講座を主催する団体名（例―河川管理者から依頼の場合はその河川管理者名）を記入ください。"]
["■受講者募集について"]
["※ＲＡＣのホームページ等にても募集を行いますので、下記にお誘い用の一文をご記入下さい。"]
[]
[]
[]
[]
[]
["年号","月","日"]
["元",1,1]
[2,2,2]
[3,3,3]
[4,4,4]
[5,5,5]
[6,6,6]
[7,7,7]
[8,8,8]
[9,9,9]
[10,10,10]
[11,11,11]
[12,12,12]
[null,null,13]
[null,null,14]
[null,null,15]
[null,null,16]
[null,null,17]
[null,null,18]
[null,null,19]
[null,null,20]
[null,null,21]
[null,null,22]
[null,null,23]
[null,null,24]
[null,null,25]
[null,null,26]
[null,null,27]
[null,null,28]
[null,null,29]
[null,null,30]
[null,null,31]

{"sheet":"F-2","index":2,"n_rows":12,"n_cols":10,"rows_kept":12,"cut":false,"hidden":false,"merged":[[1,8,1,9],[2,4,3,4],[2,5,3,5],[2,6,3,6],[2,8,3,8],[2,9,3,9],[1,3,1,6],[2,7,3,7],[2,3,3,3]]}
[null,null,"様式Ｅ-2"]
[null,null,"講座名",{"$f":"初期設定!D9","v":0},null,null,null,"団体名",{"$f":"初期設定!D4","v":0}]
[null,null,null,"必要時間\n（分）","講義\n形式","実施日\n（予定日）","実施内容","講師","実施場所","備考"]
[]
[null,1,"オリエンテーション",30,"講義",null,"○ 講座の趣旨・スケジュール説明\n○ キャンプネーム・アイスブレイク\n○ 参加のねらい及び自己紹介\n"]
[null,2,"疾病の理解と対処法",120,"講義\n実習",null,"○ 水辺で起こり得る疾病の対処（溺水、低体温、熱中症、アナフィラキシー、エピペンの使い方と法的問題）\n○ 初期評価ができるようになる（意識レベル、起動、呼吸、循環）\n○ 溺水について、CABではなくABCの順番なのはなぜか\n○ 脊椎の固定\n○ 搬送方法\n○ ポケットマスクのあて方、下顎挙上\n○ 傷の写真を見せてどのような対処が必要かグループワーク"]
[null,3,"救急隊への情報提供方法",30,"実習",null,"○ 救急隊が必要な情報（参加者の情報を直ぐに伝えるためにどのような準備が必要か）\n○ 意識レベル、事故の状況、発見時の状況\n"]
[null,4,"包帯法　シーネ固定テーピング",90,"実習\n",null,"○ 水辺で起こり得る怪我の対処（外傷、骨折の対処\n○ 実際に巻いてみる\n○ 身近にあるものを使用して固定してみる\n○ 自分の技術評価\n"]
[null,5,"ふりかえり",30,"講義",null,"○ ＲＡＣ安全資機材、ファーストエイドキットの紹介\n○ 本日学んだことや感想\n○ 全体のふりかえり\n\n"]
[null,null,"合計",{"$f":"SUM(D5:D9)","v":300}]
[null,"※必要時間を超える講習を行う場合でも、当該カリキュラムに該当する時間のみ記入してください。"]
[null,"※実施日は　月/日　を半角で入力ください。"]

{"sheet":"F-3","index":3,"n_rows":47,"n_cols":5,"rows_kept":47,"cut":false,"hidden":false,"merged":[[1,0,2,0],[3,0,5,0],[7,0,7,3],[8,0,13,0],[8,1,8,3],[9,1,9,3],[10,1,11,3],[12,1,13,3],[12,4,13,4],[36,3,38,3],[36,4,38,4],[15,0,15,3],[16,1,16,2],[22,3,25,3],[22,4,25,4],[17,0,45,0],[17,1,38,2],[17,3,21,3],[0,0,0,1],[46,0,46,3],[3,1,5,4],[1,1,2,4],[14,1,14,3],[39,1,39,3],[17,4,21,4],[26,3,27,3],[26,4,27,4],[31,3,35,3],[31,4,35,4],[40,1,45,3],[40,4,45,4],[28,3,30,3],[28,4,30,4],[10,4,11,4]]}
["様式Ｅ－３"]
["主管団体名",{"$f":"初期設定!D4","v":0}]
[]
["実施予定日",{"$f":"初期設定!D14","v":"00:00:00"}]
[]
[]
[]
["事項・経費項目",null,null,null,"金額（円）"]
["収入の部","開催交付希望額 (A)"]
[null,"受講料 (B)"]
[null,"登録認定料 (C)"]
[]
[null,"その他の収入 (D)"]
[]
[null,"収入の部合計 (A+B+C+D)",null,null,{"$f":"SUM(E9:E14)","v":0}]
[]
[null,null,null,"事項・経費項目","金額"]
["支出の部","対象経費",null,"謝金",{"$f":"'（集計）'!E6","v":0}]
[]
[]
[]
[]
[null,null,null,"旅費",{"$f":"'（集計）'!E7","v":0}]
[]
[]
[]
[null,null,null,"印刷製本費",{"$f":"'（集計）'!E8","v":0}]
[]
[null,null,null,"通信運搬費",{"$f":"'（集計）'!E9","v":0}]
[]
[]
[null,null,null,"借料損料",{"$f":"'（集計）'!E10","v":0}]
[]
[]
[]
[]
[null,null,null,"消耗品費",{"$f":"'（集計）'!E11","v":0}]
[]
[]
[null,"合計 (イ)＝(A)",null,null,{"$f":"SUM(E18:E39)","v":0}]
[null,"対象外経費 (ロ)＝（Ｂ+C+D）",null,null,{"$f":"'R-7'!J79","v":0}]
[]
[]
[]
[]
[]
["支出総額 (イ+ロ)",null,null,null,{"$f":"SUM(E40:E46)","v":0}]

{"sheet":"F-5","index":4,"n_rows":90,"n_cols":18,"rows_kept":90,"cut":false,"hidden":false,"merged":[[0,0,0,2],[15,5,16,17],[45,0,45,5],[46,0,46,5],[41,6,41,9],[41,11,41,14],[8,0,8,6],[8,7,8,8],[9,0,9,6],[9,7,9,8],[7,7,7,8],[32,6,32,8],[32,0,32,5],[9,10,9,15],[10,10,10,17],[27,0,27,4],[28,0,28,4],[32,14,32,15],[19,0,19,17],[23,0,23,17],[24,0,24,4],[25,0,25,4],[26,0,26,4],[26,5,26,17],[27,5,27,10],[31,6,31,8],[31,0,31,5],[27,12,27,17],[24,5,24,17],[25,5,25,17],[20,11,21,12],[20,13,21,17],[11,0,11,17],[17,0,17,4],[17,5,17,8],[13,0,13,17],[1,0,1,17],[7,10,7,17],[8,10,8,17],[5,0,5,7],[6,11,6,12],[7,0,7,6],[20,0,21,4],[20,5,21,10],[47,0,48,17],[14,0,14,4],[15,0,16,4],[14,5,14,17],[44,0,44,5],[42,0,42,5],[33,0,33,6],[34,0,37,17],[39,0,39,17],[28,5,28,17],[41,15,41,17],[30,0,30,17],[31,14,31,15],[45,6,45,17],[42,6,42,17],[44,6,44,17],[43,6,43,17],[40,0,40,5],[41,0,41,5],[43,0,43,5]]}
["様式Ｅ－５"]
["RAC水辺のファースト・エイド講習会　活動実績報告書 "]
[]
[null,null,null,null,null,null,null,null,null,null,null,"令和",null,"年",null,"月",null,"日"]
["NPO法人川に学ぶ体験活動協議会"]
["代表理事  宮尾　博一 殿"]
[null,null,null,null,null,null,null,null,null,"住      所※","〒",{"$f":"初期設定!D5","v":0}]
[null,null,null,null,null,null,null,null,null,null,{"$f":"初期設定!D6","v":0}]
[null,null,null,null,null,null,null,null,null,"申請団体名　※1",{"$f":"初期設定!D4","v":0}]
[null,null,null,null,null,null,null,"　　　　　　　　　　　　　　　　　",null,"代表者職氏名※",{"$f":"初期設定!D7","v":0},null,null,null,null,null,"印"]
["令和",null,"年",null,"月",null,"日","付け、","第",{"$f":"初期設定!D39","v":0},"号で、講座開催の決定通知を受けました講座について、"]
["下記の通り報告及び登録申請いたします。"]
[]
["記"]
["１．講座名※",null,null,null,null,{"$f":"初期設定!D9","v":0}]
["２．実施日時※",null,null,null,null,{"$f":"初期設定!D14","v":"00:00:00"}]
[]
["３．修了者数",null,null,null,null,{"$f":"初期設定!D43","v":0},null,null,null,"名"]
[]
["■担当専任講師"]
["氏　　名※",null,null,null,null,{"$f":"初期設定!D10","v":0},null,null,null,null,null,"ＲＡＣ登録ＩＤ",null,{"$f":"初期設定!D11","v":0}]
[]
[]
["■担当者の連絡先"]
["氏　　名※",null,null,null,null,{"$f":"初期設定!D25","v":0}]
["所属団体名※",null,null,null,null,{"$f":"初期設定!D26","v":0}]
["住　　所",null,null,null,null,{"$f":"初期設定!D29","v":0}]
["TEL.",null,null,null,null,{"$f":"初期設定!D30","v":0},null,null,null,null,null,"FAX. ",{"$f":"初期設定!D31","v":0}]
["E-mail",null,null,null,null,{"$f":"初期設定!D32","v":0}]
[]
["■活動の実施状況"]
["参加活動実績",null,null,null,null,null,"講師・指導者",null,null,{"$f":"初期設定!D42","v":0},"名","大人",{"$f":"初期設定!D40","v":0},"名","子ども",null,{"$f":"初期設定!D41","v":0},"名"]
["当初計画時",null,null,null,null,null,"講師・指導者",null,null,{"$f":"初期設定!D24","v":0},"名","大人",{"$f":"初期設定!D22","v":0},"名","子ども",null,{"$f":"初期設定!D23","v":0},"名"]
["活動自己評価・今後の課題"]
[]
[]
[]
[]
[]
["■開催費用振込先（※交付決定を受けた講座のみ）"]
["1. 支払い申請金額",null,null,null,null,null,null,null,null,{"$f":"'R-7'!J12","v":0},"円"]
["2．振込先",null,null,null,null,null,{"$f":"初期設定!D44","v":0},null,null,null,"銀行",{"$f":"初期設定!D45","v":0}]
["3．口座種別",null,null,null,null,null,{"$f":"初期設定!D46","v":0}]
["4．口座番号",null,null,null,null,null,{"$f":"初期設定!D47","v":0}]
["5．口座名義フリガナ",null,null,null,null,null,{"$f":"初期設定!D48","v":0}]
["6．口座名義",null,null,null,null,null,{"$f":"初期設定!D49","v":0}]
[]
["※印の項目については、RACホームページの講座開催予定のページに掲載いたしますので予めご了承ください。不都合がある場合は、その旨ご記入ください。"]
[]
[]
[]
[]
[]
[]
[]
[]
[]
[]
["年号",null,null,null,null,null,"月","日"]
["元",null,null,null,null,null,1,1]
[2,null,null,null,null,null,2,2]
[3,null,null,null,null,null,3,3]
[4,null,null,null,null,null,4,4]
[5,null,null,null,null,null,5,5]
[6,null,null,null,null,null,6,6]
[7,null,null,null,null,null,7,7]
[8,null,null,null,null,null,8,8]
[9,null,null,null,null,null,9,9]
[10,null,null,null,null,null,10,10]
[11,null,null,null,null,null,11,11]
[12,null,null,null,null,null,12,12]
[null,null,null,null,null,null,null,13]
[null,null,null,null,null,null,null,14]
[null,null,null,null,null,null,null,15]
[null,null,null,null,null,null,null,16]
[null,null,null,null,null,null,null,17]
[null,null,null,null,null,null,null,18]
[null,null,null,null,null,null,null,19]
[null,null,null,null,null,null,null,20]
[null,null,null,null,null,null,null,21]
[null,null,null,null,null,null,null,22]
[null,null,null,null,null,null,null,23]
[null,null,null,null,null,null,null,24]
[null,null,null,null,null,null,null,25]
[null,null,null,null,null,null,null,26]
[null,null,null,null,null,null,null,27]
[null,null,null,null,null,null,null,28]
[null,null,null,null,null,null,null,29]
[null,null,null,null,null,null,null,30]
[null,null,null,null,null,null,null,31]

{"sheet":"F-6","index":5,"n_rows":33,"n_cols":12,"rows_kept":33,"cut":false,"hidden":false,"merged":[[1,9,1,11],[1,0,1,1],[0,0,0,1],[1,2,1,7],[0,3,0,9]]}
["様式Ｅ－６",null,null,"※ＲＡＣ登録ＩＤをお持ちの方については，ＩＤ及び氏名以外の記載は不要です。"]
["講座認定番号",null,{"$f":"初期設定!D39","v":0},null,null,null,null,null,"団体名",{"$f":"初期設定!D4","v":0}]
["　","ＲＡＣ登録ID","氏名","性別","〒","自宅住所\n（都道府県）","自宅住所\n（市区郡）","自宅住所\n（市区郡以外）","自宅電話","メールアドレス（携帯アドレス不可）","生年月日（西暦）","備考"]
[1,null,null,null,null,null,null,null,null,null,"　　　　年　　月　　日"]
[2,null,null,null,null,null,null,null,null,null,"　　　　年　　月　　日"]
[3,null,null,null,null,null,null,null,null,null,"　　　　年　　月　　日"]
[4,null,null,null,null,null,null,null,null,null,"　　　　年　　月　　日"]
[5,null,null,null,null,null,null,null,null,null,"　　　　年　　月　　日"]
[6,null,null,null,null,null,null,null,null,null,"　　　　年　　月　　日"]
[7,null,null,null,null,null,null,null,null,null,"　　　　年　　月　　日"]
[8,null,null,null,null,null,null,null,null,null,"　　　　年　　月　　日"]
[9,null,null,null,null,null,null,null,null,null,"　　　　年　　月　　日"]
[10,null,null,null,null,null,null,null,null,null,"　　　　年　　月　　日"]
[11,null,null,null,null,null,null,null,null,null,"　　　　年　　月　　日"]
[12,null,null,null,null,null,null,null,null,null,"　　　　年　　月　　日"]
[13,null,null,null,null,null,null,null,null,null,"　　　　年　　月　　日"]
[14,null,null,null,null,null,null,null,null,null,"　　　　年　　月　　日"]
[15,null,null,null,null,null,null,null,null,null,"　　　　年　　月　　日"]
[16,null,null,null,null,null,null,null,null,null,"　　　　年　　月　　日"]
[17,null,null,null,null,null,null,null,null,null,"　　　　年　　月　　日"]
[18,null,null,null,null,null,null,null,null,null,"　　　　年　　月　　日"]
[19,null,null,null,null,null,null,null,null,null,"　　　　年　　月　　日"]
[20,null,null,null,null,null,null,null,null,null,"　　　　年　　月　　日"]
[21,null,null,null,null,null,null,null,null,null,"　　　　年　　月　　日"]
[22,null,null,null,null,null,null,null,null,null,"　　　　年　　月　　日"]
[23,null,null,null,null,null,null,null,null,null,"　　　　年　　月　　日"]
[24,null,null,null,null,null,null,null,null,null,"　　　　年　　月　　日"]
[25,null,null,null,null,null,null,null,null,null,"　　　　年　　月　　日"]
[26,null,null,null,null,null,null,null,null,null,"　　　　年　　月　　日"]
[27,null,null,null,null,null,null,null,null,null,"　　　　年　　月　　日"]
[28,null,null,null,null,null,null,null,null,null,"　　　　年　　月　　日"]
[29,null,null,null,null,null,null,null,null,null,"　　　　年　　月　　日"]
[30,null,null,null,null,null,null,null,null,null,"　　　　年　　月　　日"]

{"sheet":"F-７","index":6,"n_rows":39,"n_cols":9,"rows_kept":39,"cut":false,"hidden":false,"merged":[[35,1,35,2],[36,1,36,2],[37,1,37,2],[38,1,38,2],[31,1,31,2],[32,1,32,2],[33,1,33,2],[34,1,34,2],[27,1,27,2],[28,1,28,2],[29,1,29,2],[30,1,30,2],[23,1,23,2],[24,1,24,2],[25,1,25,2],[26,1,26,2],[19,1,19,2],[20,1,20,2],[21,1,21,2],[22,1,22,2],[15,1,15,2],[16,1,16,2],[17,1,17,2],[18,1,18,2],[11,1,11,2],[12,1,12,2],[13,1,13,2],[14,1,14,2],[2,2,2,7],[8,1,8,2],[9,1,9,2],[10,1,10,2]]}
[]
[null,"様式E-7",null,null,null,null,null,null,"受講した講座に”○”を記入してください。"]
[null,"講座名",{"$f":"初期設定!D9","v":0},null,null,null,null,null,{"$f":"初期設定!D39","v":0}]
[null,null,null,1,2,3,4,5]
[null,null,null,{"$f":"'F-2'!C5","v":"オリエンテーション"},{"$f":"'F-2'!C6","v":"疾病の理解と対処法"},{"$f":"'F-2'!C7","v":"救急隊への情報提供方法"},{"$f":"'F-2'!C8","v":"包帯法　シーネ固定テーピング"},{"$f":"'F-2'!C9","v":"ふりかえり"},"講師評価"]
[null,null,null,"講義","講義","実習","実習","講義",{"$f":"初期設定!D10","v":0}]
[null,null,"実施年"]
[null,"受講者氏名","実施日",{"$f":"'F-2'!F5","v":"00:00:00"},{"$f":"'F-2'!F6","v":"00:00:00"},{"$f":"'F-2'!F7","v":"00:00:00"},{"$f":"'F-2'!F8","v":"00:00:00"},{"$f":"'F-2'!F9","v":"00:00:00"}]
[{"$f":"IF(COUNTA(D9:H9)=5,\"合格\",\"×\")","v":"×"},{"$f":"'F-6'!C4","v":0}]
[{"$f":"IF(COUNTA(D10:H10)=5,\"合格\",\"×\")","v":"×"},{"$f":"'F-6'!C5","v":0}]
["×",{"$f":"'F-6'!C6","v":0}]
["×",{"$f":"'F-6'!C7","v":0}]
["×",{"$f":"'F-6'!C8","v":0}]
["×",{"$f":"'F-6'!C9","v":0}]
["×",{"$f":"'F-6'!C10","v":0}]
["×",{"$f":"'F-6'!C11","v":0}]
["×",{"$f":"'F-6'!C12","v":0}]
["×",{"$f":"'F-6'!C13","v":0}]
["×",{"$f":"'F-6'!C14","v":0}]
["×",{"$f":"'F-6'!C15","v":0}]
["×",{"$f":"'F-6'!C16","v":0}]
["×",{"$f":"'F-6'!C17","v":0}]
["×",{"$f":"'F-6'!C18","v":0}]
["×",{"$f":"'F-6'!C19","v":0}]
["×",{"$f":"'F-6'!C20","v":0}]
["×",{"$f":"'F-6'!C21","v":0}]
["×",{"$f":"'F-6'!C22","v":0}]
["×",{"$f":"'F-6'!C23","v":0}]
["×",{"$f":"'F-6'!C24","v":0}]
["×",{"$f":"'F-6'!C25","v":0}]
["×",{"$f":"'F-6'!C26","v":0}]
["×",{"$f":"'F-6'!C27","v":0}]
["×",{"$f":"'F-6'!C28","v":0}]
[{"$f":"IF(COUNTA(D34:H34)=5,\"合格\",\"×\")","v":"×"},{"$f":"'F-6'!C29","v":0}]
["×",{"$f":"'F-6'!C30","v":0}]
["×",{"$f":"'F-6'!C31","v":0}]
["×",{"$f":"'F-6'!C32","v":0}]
["×",{"$f":"'F-6'!C33","v":0}]
["×",{"$f":"'F-6'!C34","v":0}]

{"sheet":"R-7","index":7,"n_rows":83,"n_cols":12,"rows_kept":83,"cut":false,"hidden":false,"merged":[[79,9,79,11],[2,5,2,11],[3,5,3,11],[13,9,15,9],[13,10,15,10],[13,11,15,11],[14,7,15,7],[14,8,15,8],[4,5,4,11],[9,6,9,8],[0,1,0,11],[13,1,15,1],[13,2,15,2],[13,3,15,3],[13,4,15,4],[13,5,15,5],[13,6,15,6],[13,7,13,8],[10,6,10,8]]}
[null,"収支簿"]
[null,null,null,null,null,null,null,null,null,null,null,"№"]
[null,null,null,null,"団体名：",{"$f":"初期設定!D4","v":0}]
[null,"様式Ｒ－７",null,null,"活動名：",{"$f":"初期設定!D9","v":0}]
[null,null,null,null,"講座認定番号：",{"$f":"初期設定!D39","v":0}]
[]
[null,null,null,null,null,null,"収入合計",{"$f":"F79","v":0},"支出合計",{"$f":"G79","v":0}]
[null,"説明",null,null,null,null,null,null,"支援対象経費計",{"$f":"H79","v":0}]
[null,null,null,null,null,null,null,null,"支援対象外経費",{"$f":"J79","v":0}]
[null,null,null,null,null,null,"支援対象額（支出合計－収入合計）(①)",null,null,{"$f":"MIN(J7-H7,J8)","v":0}]
[null,null,null,null,null,null,"支援額上限(②）",null,null,20000]
[null,null,null,null,null,null,"支援決定額（①～②の最も小さい値）",null,null,{"$f":"MIN(J10,J11)","v":0}]
[]
[null,"領収書\nＮＯ","日　付","項　　目\n(領収書但し書き）","支払先","収入","支　出","支援対象経費",null,"支援対象外経費","検算欄","RAC\nNO"]
[null,null,null,null,null,null,null,"金額","区分"]
[]
["例",101,"2002.5.23","講師謝金","川野 花子",null,30000,20000,null,10000,{"$f":"G17-(H17+J17)","v":0}]
[null,null,null,null,null,null,null,null,null,null,{"$f":"G18-(H18+J18)","v":0}]
[null,null,null,null,null,null,null,null,null,null,0]
[null,null,null,null,null,null,null,null,null,null,0]
[null,null,null,null,null,null,null,null,null,null,0]
[null,null,null,null,null,null,null,null,null,null,0]
[null,null,null,null,null,null,null,null,null,null,0]
[null,null,null,null,null,null,null,null,null,null,0]
[null,null,null,null,null,null,null,null,null,null,0]
[null,null,null,null,null,null,null,null,null,null,0]
[null,null,null,null,null,null,null,null,null,null,0]
[null,null,null,null,null,null,null,null,null,null,0]
[null,null,null,null,null,null,null,null,null,null,0]
[null,null,null,null,null,null,null,null,null,null,0]
[null,null,null,null,null,null,null,null,null,null,0]
[null,null,null,null,null,null,null,null,null,null,0]
[null,null,null,null,null,null,null,null,null,null,0]
[null,null,null,null,null,null,null,null,null,null,0]
[null,null,null,null,null,null,null,null,null,null,0]
[null,null,null,null,null,null,null,null,null,null,0]
[null,null,null,null,null,null,null,null,null,null,0]
[null,null,null,null,null,null,null,null,null,null,0]
[null,null,null,null,null,null,null,null,null,null,0]
[null,null,null,null,null,null,null,null,null,null,0]
[null,null,null,null,null,null,null,null,null,null,0]
[null,null,null,null,null,null,null,null,null,null,0]
[null,null,null,null,null,null,null,null,null,null,0]
[null,null,null,null,null,null,null,null,null,null,0]
[null,null,null,null,null,null,null,null,null,null,0]
[null,null,null,null,null,null,null,null,null,null,0]
[null,null,null,null,null,null,null,null,null,null,0]
[null,null,null,null,null,null,null,null,null,null,0]
[null,null,null,null,null,null,null,null,null,null,0]
[null,null,null,null,null,null,null,null,null,null,0]
[null,null,null,null,null,null,null,null,null,null,0]
[null,null,null,null,null,null,null,null,null,null,0]
[null,null,null,null,null,null,null,null,null,null,0]
[null,null,null,null,null,null,null,null,null,null,0]
[null,null,null,null,null,null,null,null,null,null,0]
[null,null,null,null,null,null,null,null,null,null,0]
[null,null,null,null,null,null,null,null,null,null,0]
[null,null,null,null,null,null,null,null,null,null,0]
[null,null,null,null,null,null,null,null,null,null,0]
[null,null,null,null,null,null,null,null,null,null,0]
[null,null,null,null,null,null,null,null,null,null,0]
[null,null,null,null,null,null,null,null,null,null,0]
[null,null,null,null,null,null,null,null,null,null,0]
[null,null,null,null,null,null,null,null,null,null,0]
[null,null,null,null,null,null,null,null,null,null,0]
[null,null,null,null,null,null,null,null,null,null,0]
[null,null,null,null,null,null,null,null,null,null,0]
[null,null,null,null,null,null,null,null,null,null,0]
[null,null,null,null,null,null,null,null,null,null,0]
[null,null,null,null,null,null,null,null,null,null,0]
[null,null,null,null,null,null,null,null,null,null,0]
[null,null,null,null,null,null,null,null,null,null,0]
[null,null,null,null,null,null,null,null,"謝金",null,0]
[null,null,null,null,null,null,null,null,"旅　費",null,0]
[null,null,null,null,null,null,null,null,"印刷製本費"]
[null,null,null,null,null,null,null,null,"通信運搬費"]
[null,null,null,null,null,null,null,null,"借料損料",null,0]
[null,null,null,null,null,null,null,null,"消耗品費",null,0]
[null,null,"合　　　計",null,null,{"$f":"SUM(F18:F78)","v":0},{"$f":"SUM(G18:G78)","v":0},{"$f":"SUM(H18:H78)","v":0},null,{"$f":"SUM(J18:J78)","v":0},0]
[]
[]
[]
[null,"謝金","旅　費","印刷製本費","通信運搬費","借料損料","消耗品費"]

{"sheet":"F-8","index":8,"n_rows":47,"n_cols":5,"rows_kept":47,"cut":false,"hidden":false,"merged":[[1,0,2,0],[1,1,2,4],[3,0,5,0],[3,1,5,4],[10,4,11,4],[12,1,13,3],[12,4,13,4],[7,0,7,3],[8,0,13,0],[8,1,8,3],[9,1,9,3],[10,1,11,3],[14,1,14,3],[15,0,15,3],[16,1,16,2],[17,0,45,0],[17,1,38,2],[17,3,21,3],[26,3,27,3],[31,3,35,3],[26,4,27,4],[28,3,30,3],[28,4,30,4],[17,4,21,4],[22,3,25,3],[22,4,25,4],[46,0,46,3],[31,4,35,4],[36,3,38,3],[36,4,38,4],[39,1,39,3],[40,1,45,3],[40,4,45,4]]}
["様式Ｅ－8"]
["主管団体名",{"$f":"初期設定!D4","v":0}]
[]
["開催日",{"$f":"初期設定!D14","v":"00:00:00"}]
[]
[]
[]
["事項・経費項目",null,null,null,"金額（円）"]
["収入の部","支援金交付希望額 (A)"]
[null,"受講料 (B)"]
[null,"登録認定料(C)"]
[]
[null,"その他の収入 (D)"]
[]
[null,"収入の部合計 (A+B+C+D)",null,null,{"$f":"SUM(E9:E14)","v":0}]
[]
[null,null,null,"事項・経費項目","金額"]
["支出の部","支援対象経費",null,"謝金",{"$f":"'（集計）'!E6","v":0}]
[]
[]
[]
[]
[null,null,null,"旅費",{"$f":"'（集計）'!E7","v":0}]
[]
[]
[]
[null,null,null,"印刷製本費",{"$f":"'（集計）'!E8","v":0}]
[]
[null,null,null,"通信運搬費",{"$f":"'（集計）'!E9","v":0}]
[]
[]
[null,null,null,"借料損料",{"$f":"'（集計）'!E10","v":0}]
[]
[]
[]
[]
[null,null,null,"消耗品費",{"$f":"'（集計）'!E11","v":0}]
[]
[]
[null,"合計 (イ)＝(A)",null,null,{"$f":"SUM(E18:E39)","v":0}]
[null,"支援対象外経費 (ロ)＝（B+C+D）",null,null,{"$f":"'R-7'!J79","v":0}]
[]
[]
[]
[]
[]
["支出総額 (イ+ロ)",null,null,null,{"$f":"SUM(E40:E46)","v":0}]

{"sheet":"（集計）","index":9,"n_rows":63,"n_cols":7,"rows_kept":63,"cut":false,"hidden":false,"merged":[]}
["金額","項目"]
[{"$f":"'R-7'!H18","v":0},{"$f":"'R-7'!I18","v":0}]
[{"$f":"'R-7'!H19","v":0},{"$f":"'R-7'!I19","v":0},null,"合計 / 金額"]
[{"$f":"'R-7'!H20","v":0},{"$f":"'R-7'!I20","v":0},null,"項目","集計"]
[{"$f":"'R-7'!H21","v":0},{"$f":"'R-7'!I21","v":0},null,0,0]
[{"$f":"'R-7'!H22","v":0},{"$f":"'R-7'!I22","v":0},null,"謝金",0]
[{"$f":"'R-7'!H23","v":0},{"$f":"'R-7'!I23","v":0},null,"旅　費",0]
[{"$f":"'R-7'!H24","v":0},{"$f":"'R-7'!I24","v":0},null,"印刷製本費"]
[{"$f":"'R-7'!H25","v":0},{"$f":"'R-7'!I25","v":0},null,"通信運搬費"]
[{"$f":"'R-7'!H26","v":0},{"$f":"'R-7'!I26","v":0},null,"借料損料",0]
[{"$f":"'R-7'!H27","v":0},{"$f":"'R-7'!I27","v":0},null,"消耗品費",0]
[{"$f":"'R-7'!H28","v":0},{"$f":"'R-7'!I28","v":0},null,"総計",0]
[{"$f":"'R-7'!H29","v":0},{"$f":"'R-7'!I29","v":0}]
[{"$f":"'R-7'!H30","v":0},{"$f":"'R-7'!I30","v":0}]
[{"$f":"'R-7'!H31","v":0},{"$f":"'R-7'!I31","v":0}]
[{"$f":"'R-7'!H32","v":0},{"$f":"'R-7'!I32","v":0},null,"支援対象額(①）",null,null,{"$f":"'R-7'!J10","v":0}]
[{"$f":"'R-7'!H33","v":0},{"$f":"'R-7'!I33","v":0},null,"支援額上限(②）",null,null,20000]
[{"$f":"'R-7'!H34","v":0},{"$f":"'R-7'!I34","v":0},null,"支援決定額（①～②の最も小さい値）",null,null,{"$f":"MIN(G15,G16,G17)","v":0}]
[{"$f":"'R-7'!H35","v":0},{"$f":"'R-7'!I35","v":0}]
[{"$f":"'R-7'!H36","v":0},{"$f":"'R-7'!I36","v":0}]
[{"$f":"'R-7'!H37","v":0},{"$f":"'R-7'!I37","v":0}]
[{"$f":"'R-7'!H38","v":0},{"$f":"'R-7'!I38","v":0}]
[{"$f":"'R-7'!H39","v":0},{"$f":"'R-7'!I39","v":0}]
[{"$f":"'R-7'!H40","v":0},{"$f":"'R-7'!I40","v":0}]
[{"$f":"'R-7'!H41","v":0},{"$f":"'R-7'!I41","v":0}]
[{"$f":"'R-7'!H42","v":0},{"$f":"'R-7'!I42","v":0}]
[{"$f":"'R-7'!H43","v":0},{"$f":"'R-7'!I43","v":0}]
[{"$f":"'R-7'!H44","v":0},{"$f":"'R-7'!I44","v":0}]
[{"$f":"'R-7'!H45","v":0},{"$f":"'R-7'!I45","v":0}]
[{"$f":"'R-7'!H46","v":0},{"$f":"'R-7'!I46","v":0}]
[{"$f":"'R-7'!H47","v":0},{"$f":"'R-7'!I47","v":0}]
[{"$f":"'R-7'!H48","v":0},{"$f":"'R-7'!I48","v":0}]
[{"$f":"'R-7'!H49","v":0},{"$f":"'R-7'!I49","v":0}]
[{"$f":"'R-7'!H50","v":0},{"$f":"'R-7'!I50","v":0}]
[{"$f":"'R-7'!H51","v":0},{"$f":"'R-7'!I51","v":0}]
[{"$f":"'R-7'!H52","v":0},{"$f":"'R-7'!I52","v":0}]
[{"$f":"'R-7'!H53","v":0},{"$f":"'R-7'!I53","v":0}]
[{"$f":"'R-7'!H54","v":0},{"$f":"'R-7'!I54","v":0}]
[{"$f":"'R-7'!H55","v":0},{"$f":"'R-7'!I55","v":0}]
[{"$f":"'R-7'!H56","v":0},{"$f":"'R-7'!I56","v":0}]
[{"$f":"'R-7'!H57","v":0},{"$f":"'R-7'!I57","v":0}]
[{"$f":"'R-7'!H58","v":0},{"$f":"'R-7'!I58","v":0}]
[{"$f":"'R-7'!H59","v":0},{"$f":"'R-7'!I59","v":0}]
[{"$f":"'R-7'!H60","v":0},{"$f":"'R-7'!I60","v":0}]
[{"$f":"'R-7'!H61","v":0},{"$f":"'R-7'!I61","v":0}]
[{"$f":"'R-7'!H62","v":0},{"$f":"'R-7'!I62","v":0}]
[{"$f":"'R-7'!H63","v":0},{"$f":"'R-7'!I63","v":0}]
[{"$f":"'R-7'!H64","v":0},{"$f":"'R-7'!I64","v":0}]
[{"$f":"'R-7'!H65","v":0},{"$f":"'R-7'!I65","v":0}]
[{"$f":"'R-7'!H66","v":0},{"$f":"'R-7'!I66","v":0}]
[{"$f":"'R-7'!H67","v":0},{"$f":"'R-7'!I67","v":0}]
[{"$f":"'R-7'!H68","v":0},{"$f":"'R-7'!I68","v":0}]
[{"$f":"'R-7'!H69","v":0},{"$f":"'R-7'!I69","v":0}]
[{"$f":"'R-7'!H70","v":0},{"$f":"'R-7'!I70","v":0}]
[{"$f":"'R-7'!H71","v":0},{"$f":"'R-7'!I71","v":0}]
[{"$f":"'R-7'!H72","v":0},{"$f":"'R-7'!I72","v":0}]
[{"$f":"'R-7'!H73","v":0},{"$f":"'R-7'!I73","v":"謝金"}]
[{"$f":"'R-7'!H74","v":0},{"$f":"'R-7'!I74","v":"旅　費"}]
[null,{"$f":"'R-7'!I75","v":"印刷製本費"}]
[null,{"$f":"'R-7'!I76","v":"通信運搬費"}]
[{"$f":"'R-7'!H77","v":0},{"$f":"'R-7'!I77","v":"借料損料"}]
[{"$f":"'R-7'!H78","v":0},{"$f":"'R-7'!I78","v":"消耗品費"}]
[{"$f":"'R-7'!H79","v":0},{"$f":"'R-7'!I79","v":0}]

{"sheet":"（ACCESS転写データ）","index":10,"n_rows":3,"n_cols":31,"rows_kept":3,"cut":false,"hidden":false,"merged":[]}
[1,2,null,3,4,5,6,7,null,8,10,11,12,13,14,15,16,17,18,19,20,21,22,23,24,25,26,27,18,29,30]
["講座名","専任講師","ＲＡＣ登録ID","開催日時","実施河川","実施会場名称","実施会場〒","実施会場住所_ 1","実施会場住所_ 2","実施会場TEL","担当者氏名","担当者所属団体","担当者〒","担当者住所","担当者TEL","担当者FAX","担当者メール","参加者（大人)","参加者（子ども）","登録者数","開催申請日","修了申請日","資料発送先","資料_〒","資料_住所","資料_TEL","資料_受取人","資料_到着日","講座PR","開催団体名","主な経費負担者"]
[{"$f":"初期設定!D9","v":0},{"$f":"初期設定!D10","v":0},{"$f":"初期設定!D11","v":0},{"$f":"初期設定!D14","v":"00:00:00"},{"$f":"初期設定!D15","v":0},{"$f":"初期設定!D16","v":0},{"$f":"初期設定!D17","v":0},{"$f":"初期設定!D18","v":0},{"$f":"初期設定!D19&初期設定!D20","v":""},{"$f":"初期設定!D21","v":0},{"$f":"初期設定!D25","v":0},{"$f":"初期設定!D26","v":0},{"$f":"初期設定!D28","v":0},{"$f":"初期設定!D29","v":0},{"$f":"初期設定!D30","v":0},{"$f":"初期設定!D31","v":0},{"$f":"初期設定!D32","v":0},{"$f":"初期設定!D40","v":0},{"$f":"初期設定!D41","v":0},{"$f":"初期設定!D43","v":0},{"$f":"初期設定!D53","v":"平成年月日"},{"$f":"初期設定!D54","v":"平成年月日"},{"$f":"初期設定!D33","v":0},{"$f":"初期設定!D34","v":0},{"$f":"初期設定!D35","v":0},{"$f":"初期設定!D36","v":0},{"$f":"初期設定!D37","v":0},{"$f":"初期設定!D38","v":"00:00:00"},{"$f":"'F-1'!A46","v":0},{"$f":"初期設定!D12","v":0},{"$f":"初期設定!D13","v":0}]